BEGIN:VCALENDAR
VERSION:2.0
PRODID:-//Bruce Berryman Fitness - ECPv6.15.20//NONSGML v1.0//EN
CALSCALE:GREGORIAN
METHOD:PUBLISH
X-ORIGINAL-URL:https://bruceberryman.com
X-WR-CALDESC:Events for Bruce Berryman Fitness
REFRESH-INTERVAL;VALUE=DURATION:PT1H
X-Robots-Tag:noindex
X-PUBLISHED-TTL:PT1H
BEGIN:VTIMEZONE
TZID:UTC
BEGIN:STANDARD
TZOFFSETFROM:+0000
TZOFFSETTO:+0000
TZNAME:UTC
DTSTART:20180101T000000
END:STANDARD
END:VTIMEZONE
BEGIN:VEVENT
DTSTART;TZID=UTC:20190126T130000
DTEND;TZID=UTC:20190126T160000
DTSTAMP:20260422T161116
CREATED:20190115T004459Z
LAST-MODIFIED:20190115T032456Z
UID:15165-1548507600-1548518400@bruceberryman.com
SUMMARY:Wellness Workshop
DESCRIPTION:[vc_row][vc_column]Reserve Your Spot[/vc_column][/vc_row]
URL:https://bruceberryman.com/event/wellness-workshop/
LOCATION:Franklin Sping Georia City Hall\, 2531 West Main Street\,\, Franklin Spring\, GA\, 30639\, United States
ATTACH;FMTTYPE=image/jpeg:https://bruceberryman.com/media/uploads/2019/01/ROOM-20v20-GEORGIA-JAN-20-1019-v3-01.jpg
ORGANIZER;CN="Bruce Berryman":MAILTO:info@bruceberryman.com
END:VEVENT
END:VCALENDAR